BEGIN:VCALENDAR
VERSION:2.0
PRODID:-//ChurchDev//Events//EN
CALSCALE:GREGORIAN
METHOD:PUBLISH
BEGIN:VEVENT
UID:5251-20200902@www.gracepresby.org
SUMMARY:Mid-Week Sermon and Scripture Study (ONLINE)
DTSTART:20200902T230000Z
DTEND:20200903T000000Z
DESCRIPTION:https://www.gracepresby.org/events/mid-week-adult-discipleship-online/
LOCATION:7434 Bath Street\, Springfield\, VA 22150
URL:https://www.gracepresby.org/events/mid-week-adult-discipleship-online/
DTSTAMP:20260426T015418Z
END:VEVENT
END:VCALENDAR
